BEGIN:VCALENDAR
VERSION:2.0
BEGIN:VEVENT
DTSTART:20190127T110000Z
DTEND:20190128T105900Z
SUMMARY:Harbour Race Entry 2019
DESCRIPTION:Entries are open until 5pm Friday 25th January 2019 - after that a late entry fee applies
LOCATION:New Zealand
END:VEVENT
END:VCALENDAR